BEGIN:VCALENDAR
VERSION:2.0
PRODID:spatie/icalendar-generator
DESCRIPTION:Veranstaltungen von Bayerischer Go-Verein e.V.
X-WR-CALDESC:Veranstaltungen von Bayerischer Go-Verein e.V.
REFRESH-INTERVAL;VALUE=DURATION:PT1440M
X-PUBLISHED-TTL:PT1440M
BEGIN:VTIMEZONE
TZID:Europe/Berlin
BEGIN:STANDARD
DTSTART:20251026T030000Z
TZOFFSETFROM:+0200
TZOFFSETTO:+0100
END:STANDARD
BEGIN:DAYLIGHT
DTSTART:20260329T020000Z
TZOFFSETFROM:+0100
TZOFFSETTO:+0200
END:DAYLIGHT
END:VTIMEZONE
BEGIN:VTIMEZONE
TZID:UTC
BEGIN:STANDARD
DTSTART:20250725T083844Z
TZOFFSETFROM:+0000
TZOFFSETTO:+0000
END:STANDARD
END:VTIMEZONE
BEGIN:VEVENT
UID:177-2
DTSTAMP:20260421T083844Z
SUMMARY:Go-Spielabend am Scheidplatz
LOCATION:Cafe Scheidplatz Belgradstraße 104\,   München  80804
ORGANIZER;CN=Frank:MAILTO:f.b@faktor1.de
RRULE:FREQ=WEEKLY;UNTIL=20261230T000000Z
DTSTART;TZID=Europe/Berlin:20260317T180000
DTEND;TZID=Europe/Berlin:20260317T210000
X-ALT-DESC;FMTTYPE=TEXT/HTML:Go-Spielabend am Scheidplatz Wir treffen uns i
 m Cafe Scheidplatz. Auch Anfänger und absolute Neulinge sind willkommen. 
 Wir erklären Dir gerne\, wie das Spiel funktioniert!
CATEGORIES:Spielabende
URL;VALUE=URI:https://bgov.de/mc-events/go-spielabend-am-scheidplatz/?mc_id
 =177
METHOD:PUBLISH
END:VEVENT
END:VCALENDAR